BEGIN:VCALENDAR
VERSION:2.0
PRODID:-//eventon.com NONSGML v1.0//EN
CALSCALE:GREGORIAN
METHOD:PUBLISH
BEGIN:VEVENT
UID:69e8d5e901db9
DTSTAMP:20260422T140633Z
DTSTART:20260425T081300Z
DTEND:20260425T081300Z
LOCATION:Sala Canalla Av. de Bayona\,  2\,  31011 Pamplona\,  Navarra
SUMMARY:The New Roses
DESCRIPTION:The New Roses\nhttps://confinedrock.com/events/the-new-roses-3/
URL:https://confinedrock.com/events/the-new-roses-3/
END:VEVENT
END:VCALENDAR