BEGIN:VCALENDAR
VERSION:2.0
PRODID:-//eventon.com NONSGML v1.0//EN
CALSCALE:GREGORIAN
METHOD:PUBLISH
BEGIN:VEVENT
UID:69e75286f079c
DTSTAMP:20260421T103342Z
DTSTART:20260617T063600Z
DTEND:20260617T063600Z
LOCATION:Sala Mon C. de Hilarión Eslava\,  36\,  28015 MADRID
SUMMARY:Corrosion of Conformity
DESCRIPTION:Corrosion of Conformity\nhttps://confinedrock.com/events/corros
 ion-of-conformity-2/
URL:https://confinedrock.com/events/corrosion-of-conformity-2/
END:VEVENT
END:VCALENDAR