BEGIN:VCALENDAR
VERSION:2.0
PRODID:-//eventon.com NONSGML v1.0//EN
CALSCALE:GREGORIAN
METHOD:PUBLISH
BEGIN:VEVENT
UID:69e78b8c31e5f
DTSTAMP:20260421T143700Z
DTSTART:20260523T093600Z
DTEND:20260523T093600Z
LOCATION:Sala Santana 27 Polígono Industrial Santa Ana\,  Telleria Kalea\,  27\,  48004 BILBAO
SUMMARY:The Sword+Earthless
DESCRIPTION:The Sword+Earthless\nhttps://confinedrock.com/events/the-sworde
 arthless-3/
URL:https://confinedrock.com/events/the-swordearthless-3/
END:VEVENT
END:VCALENDAR