BEGIN:VCALENDAR
VERSION:2.0
PRODID:-//eventon.com NONSGML v1.0//EN
CALSCALE:GREGORIAN
METHOD:PUBLISH
BEGIN:VEVENT
UID:69e73a4e1fb79
DTSTAMP:20260421T085022Z
DTSTART:20260521T093600Z
DTEND:20260521T093600Z
LOCATION:Sala Razzmatazz 2 Carrer de Pamplona\,  88\,  08018 BARCELONA
SUMMARY:The Sword+Earthless
DESCRIPTION:The Sword+Earthless\nhttps://confinedrock.com/events/the-sworde
 arthless/
URL:https://confinedrock.com/events/the-swordearthless/
END:VEVENT
END:VCALENDAR