BEGIN:VCALENDAR
VERSION:2.0
PRODID:-//eventon.com NONSGML v1.0//EN
CALSCALE:GREGORIAN
METHOD:PUBLISH
BEGIN:VEVENT
UID:69e78f39106fb
DTSTAMP:20260421T145241Z
DTSTART:20260429T090200Z
DTEND:20260429T090200Z
LOCATION:Sala Paris 15 Calle la Orotava\,  25\,  29006 MALAGA
SUMMARY:Machine Head
DESCRIPTION:Machine Head\nhttps://confinedrock.com/events/machine-head-4/
URL:https://confinedrock.com/events/machine-head-4/
END:VEVENT
END:VCALENDAR