BEGIN:VCALENDAR
VERSION:2.0
PRODID:-//eventon.com NONSGML v1.0//EN
CALSCALE:GREGORIAN
METHOD:PUBLISH
BEGIN:VEVENT
UID:69e823947c131
DTSTAMP:20260422T012540Z
DTSTART:20260425T090200Z
DTEND:20260425T090200Z
LOCATION:Sala Totem Pol. Ind. Landazábal Calle 1\,  10\,  31610 NAVARRA
SUMMARY:Machine Head
DESCRIPTION:Machine Head\nhttps://confinedrock.com/events/machine-head-2/
URL:https://confinedrock.com/events/machine-head-2/
END:VEVENT
END:VCALENDAR