BEGIN:VCALENDAR
VERSION:2.0
PRODID:-//eventon.com NONSGML v1.0//EN
CALSCALE:GREGORIAN
METHOD:PUBLISH
BEGIN:VEVENT
UID:69e75287789b0
DTSTAMP:20260421T103343Z
DTSTART:20260723T071100Z
DTEND:20260723T071100Z
LOCATION:Plaza de Toros de Murcia Rda. de Garay\,  48\,  30003 Murcia
SUMMARY:ZZ Top
DESCRIPTION:ZZ Top\nhttps://confinedrock.com/events/zz-top-5/
URL:https://confinedrock.com/events/zz-top-5/
END:VEVENT
END:VCALENDAR