BEGIN:VCALENDAR
VERSION:2.0
PRODID:-//eventon.com NONSGML v1.0//EN
CALSCALE:GREGORIAN
METHOD:PUBLISH
BEGIN:VEVENT
UID:69e73ef76624e
DTSTAMP:20260421T091015Z
DTSTART:20260718T071100Z
DTEND:20260718T071100Z
LOCATION:Navarra Arena Pl. Aizagerria\,  nº 1\,  31006 Pamplona\,  Navarra
SUMMARY:ZZ Top
DESCRIPTION:ZZ Top\nhttps://confinedrock.com/events/zz-top/
URL:https://confinedrock.com/events/zz-top/
END:VEVENT
END:VCALENDAR