BEGIN:VCALENDAR
VERSION:2.0
PRODID:-//eventon.com NONSGML v1.0//EN
CALSCALE:GREGORIAN
METHOD:PUBLISH
BEGIN:VEVENT
UID:69e73f64647a4
DTSTAMP:20260421T091204Z
DTSTART:20260204T083400Z
DTEND:20260204T083400Z
LOCATION:Sala Razzmatazz Carrer dels Almogàvers\,  122\,  08018 Barcelona
SUMMARY:Paleface Swiss+Stick to your Guns+Static Dress
DESCRIPTION:Paleface Swiss+Stick to your Guns+Static Dress\nhttps://confine
 drock.com/events/paleface-swissstick-to-your-gunsstatic-dress-2/
URL:https://confinedrock.com/events/paleface-swissstick-to-your-gunsstatic-dress-2/
END:VEVENT
END:VCALENDAR