BEGIN:VCALENDAR
VERSION:2.0
PRODID:-//eventon.com NONSGML v1.0//EN
CALSCALE:GREGORIAN
METHOD:PUBLISH
BEGIN:VEVENT
UID:69e75a77c5d33
DTSTAMP:20260421T110735Z
DTSTART:20260601T082900Z
DTEND:20260601T082900Z
LOCATION:Sala Custom Pol. Ind. Calonge\,  C. Metalurgia\,  25\,  41007 Sevilla
SUMMARY:Malevolence
DESCRIPTION:Malevolence\nhttps://confinedrock.com/events/malevolence-4/
URL:https://confinedrock.com/events/malevolence-4/
END:VEVENT
END:VCALENDAR