BEGIN:VCALENDAR
VERSION:2.0
PRODID:-//eventon.com NONSGML v1.0//EN
CALSCALE:GREGORIAN
METHOD:PUBLISH
BEGIN:VEVENT
UID:69e74f9eca888
DTSTAMP:20260421T102118Z
DTSTART:20260528T082900Z
DTEND:20260528T082900Z
LOCATION:Sala Copérnico Calle de Fernández de los Ríos\,  67\,  28015 MADRID
SUMMARY:Malevolence
DESCRIPTION:Malevolence\nhttps://confinedrock.com/events/malevolence-2/
URL:https://confinedrock.com/events/malevolence-2/
END:VEVENT
END:VCALENDAR