BEGIN:VCALENDAR
VERSION:2.0
PRODID:-//eventon.com NONSGML v1.0//EN
CALSCALE:GREGORIAN
METHOD:PUBLISH
BEGIN:VEVENT
UID:69e4e2ef2c725
DTSTAMP:20260419T141303Z
DTSTART:20260311T123800Z
DTEND:20260311T123800Z
LOCATION:Sala Custom Pol. Ind. Calonge\,  C. Metalurgia\,  25\,  41007 Sevilla
SUMMARY:H.e.a.t.+Hitten
DESCRIPTION:H.e.a.t.+Hitten\nhttps://confinedrock.com/events/h-e-a-t-hitten
 -3/
URL:https://confinedrock.com/events/h-e-a-t-hitten-3/
END:VEVENT
END:VCALENDAR