BEGIN:VCALENDAR
VERSION:2.0
PRODID:-//eventon.com NONSGML v1.0//EN
CALSCALE:GREGORIAN
METHOD:PUBLISH
BEGIN:VEVENT
UID:69e73af49ba06
DTSTAMP:20260421T085308Z
DTSTART:20260212T155900Z
DTEND:20260212T155900Z
LOCATION:Palacio Vistalegre C. de Matilde Hernández\,  s/n\,  28025 Madrid
SUMMARY:Alter Bridge+Daughtry+Sevendust
DESCRIPTION:Alter Bridge+Daughtry+Sevendust\nhttps://confinedrock.com/event
 s/alter-bridgedaughtrysevendust-2/
URL:https://confinedrock.com/events/alter-bridgedaughtrysevendust-2/
END:VEVENT
END:VCALENDAR