BEGIN:VCALENDAR
VERSION:2.0
PRODID:-//eventon.com NONSGML v1.0//EN
CALSCALE:GREGORIAN
METHOD:PUBLISH
BEGIN:VEVENT
UID:69e73ab1e3aea
DTSTAMP:20260421T085201Z
DTSTART:20260520T094300Z
DTEND:20260520T094300Z
LOCATION:Sala Apolo Carrer Nou de la Rambla\,  113\,  08004 Barcelona
SUMMARY:The Aristocrats
DESCRIPTION:The Aristocrats\nhttps://confinedrock.com/events/the-aristocrat
 s-6/
URL:https://confinedrock.com/events/the-aristocrats-6/
END:VEVENT
END:VCALENDAR