BEGIN:VCALENDAR
VERSION:2.0
PRODID:-//eventon.com NONSGML v1.0//EN
CALSCALE:GREGORIAN
METHOD:PUBLISH
BEGIN:VEVENT
UID:69e73f4a1c88a
DTSTAMP:20260421T091138Z
DTSTART:20260517T094300Z
DTEND:20260517T094300Z
LOCATION:Sala Custom Pol. Ind. Calonge\,  C. Metalurgia\,  25\,  41007 Sevilla
SUMMARY:The Aristocrats
DESCRIPTION:The Aristocrats\nhttps://confinedrock.com/events/the-aristocrat
 s-3/
URL:https://confinedrock.com/events/the-aristocrats-3/
END:VEVENT
END:VCALENDAR