BEGIN:VCALENDAR
VERSION:2.0
PRODID:-//eventon.com NONSGML v1.0//EN
CALSCALE:GREGORIAN
METHOD:PUBLISH
BEGIN:VEVENT
UID:69e73f4959561
DTSTAMP:20260421T091137Z
DTSTART:20260512T094300Z
DTEND:20260512T094300Z
LOCATION:Teatro Eslava C. del Arenal\,  11\,  Centro\,  28013 Madrid
SUMMARY:The Aristocrats
DESCRIPTION:The Aristocrats\nhttps://confinedrock.com/events/the-aristocrat
 s-2/
URL:https://confinedrock.com/events/the-aristocrats-2/
END:VEVENT
END:VCALENDAR