BEGIN:VCALENDAR
VERSION:2.0
PRODID:-//eventon.com NONSGML v1.0//EN
CALSCALE:GREGORIAN
METHOD:PUBLISH
BEGIN:VEVENT
UID:69e73ae5706f0
DTSTAMP:20260421T085253Z
DTSTART:20260511T094300Z
DTEND:20260511T094300Z
LOCATION:Kafé Antzokia Done Bikendi Kalea\,  2\,  48001 BILBAO
SUMMARY:The Aristocrats
DESCRIPTION:The Aristocrats\nhttps://confinedrock.com/events/the-aristocrat
 s/
URL:https://confinedrock.com/events/the-aristocrats/
END:VEVENT
END:VCALENDAR