BEGIN:VCALENDAR
VERSION:2.0
PRODID:-//eventon.com NONSGML v1.0//EN
CALSCALE:GREGORIAN
METHOD:PUBLISH
BEGIN:VEVENT
UID:69e73af605f77
DTSTAMP:20260421T085310Z
DTSTART:20250502T055700Z
DTEND:20250502T055700Z
LOCATION:Café Cultural Auriense Praza do\,  Praza Correxidor\,  11\,  32005 Ourense\,  Province of Ourense
SUMMARY:The Ravagers
DESCRIPTION:The Ravagers\nhttps://confinedrock.com/events/the-ravagers-2/
URL:https://confinedrock.com/events/the-ravagers-2/
END:VEVENT
END:VCALENDAR