BEGIN:VCALENDAR
VERSION:2.0
PRODID:-//eventon.com NONSGML v1.0//EN
CALSCALE:GREGORIAN
METHOD:PUBLISH
BEGIN:VEVENT
UID:69e74f9f64c8e
DTSTAMP:20260421T102119Z
DTSTART:20251112T113300Z
DTEND:20251112T113300Z
LOCATION:Sala Razzmatazz Carrer dels Almogàvers\,  122\,  08018 Barcelona
SUMMARY:Halestorm+Bloodywood
DESCRIPTION:Halestorm+Bloodywood\nhttps://confinedrock.com/events/halestorm
 bloodywood/
URL:https://confinedrock.com/events/halestormbloodywood/
END:VEVENT
END:VCALENDAR