BEGIN:VCALENDAR
VERSION:2.0
PRODID:-//eventon.com NONSGML v1.0//EN
CALSCALE:GREGORIAN
METHOD:PUBLISH
BEGIN:VEVENT
UID:69e73a4b955a7
DTSTAMP:20260421T085019Z
DTSTART:20250930T061000Z
DTEND:20250930T061000Z
LOCATION:Sala Es Gremi Carrer Gremi de Porgadors\,  16\,  07009 Son Castelló\,  Illes Balears
SUMMARY:Tim "Ripper" Owens
DESCRIPTION:Tim "Ripper" Owens\nhttps://confinedrock.com/events/tim-ripper-
 owens-3/
URL:https://confinedrock.com/events/tim-ripper-owens-3/
END:VEVENT
END:VCALENDAR