BEGIN:VCALENDAR
VERSION:2.0
PRODID:-//eventon.com NONSGML v1.0//EN
CALSCALE:GREGORIAN
METHOD:PUBLISH
BEGIN:VEVENT
UID:69e4ce7785f3d
DTSTAMP:20260419T124543Z
DTSTART:20250623T102700Z
DTEND:20250623T102700Z
LOCATION:Sala Jimmy Jazz Coronacion de la Virgen Blanca Kalea\,  4\,  01012 Gasteiz\,  Araba
SUMMARY:Gorilla Biscuits
DESCRIPTION:Gorilla Biscuits\nhttps://confinedrock.com/events/gorilla-biscu
 its/
URL:https://confinedrock.com/events/gorilla-biscuits/
END:VEVENT
END:VCALENDAR