BEGIN:VCALENDAR
VERSION:2.0
PRODID:-//eventon.com NONSGML v1.0//EN
CALSCALE:GREGORIAN
METHOD:PUBLISH
BEGIN:VEVENT
UID:69e755adb0248
DTSTAMP:20260421T104709Z
DTSTART:20250510T194000Z
DTEND:20250510T194000Z
LOCATION:Sala Psilocybenea Amutalde Kalea\,  12\,  20280 HONDARRIBIA
SUMMARY:The Wildhearts
DESCRIPTION:The Wildhearts\nhttps://confinedrock.com/events/the-wildhearts-
 4/
URL:https://confinedrock.com/events/the-wildhearts-4/
END:VEVENT
END:VCALENDAR