BEGIN:VCALENDAR
VERSION:2.0
PRODID:-//eventon.com NONSGML v1.0//EN
CALSCALE:GREGORIAN
METHOD:PUBLISH
BEGIN:VEVENT
UID:69e73a4d1736c
DTSTAMP:20260421T085021Z
DTSTART:20250526T205100Z
DTEND:20250526T205100Z
LOCATION:Poble Espanyol Av. Francesc Ferrer i Guàrdia\,  13\,  08038 BARCELONA
SUMMARY:Babymetal+Poppy+Bambie Thug
DESCRIPTION:Babymetal+Poppy+Bambie Thug\nhttps://confinedrock.com/events/ba
 bymetalpoppybambie-thug-2/
URL:https://confinedrock.com/events/babymetalpoppybambie-thug-2/
END:VEVENT
END:VCALENDAR