BEGIN:VCALENDAR
VERSION:2.0
PRODID:-//eventon.com NONSGML v1.0//EN
CALSCALE:GREGORIAN
METHOD:PUBLISH
BEGIN:VEVENT
UID:69e73a87649f0
DTSTAMP:20260421T085119Z
DTSTART:20241102T181100Z
DTEND:20241102T181100Z
LOCATION:Sala Master Rúa de Urzaiz\,  1\,  36201 Vigo\,  Pontevedra
SUMMARY:Redd Kross
DESCRIPTION:Redd Kross\nhttps://confinedrock.com/events/redd-kross-2/
URL:https://confinedrock.com/events/redd-kross-2/
END:VEVENT
END:VCALENDAR