BEGIN:VCALENDAR
VERSION:2.0
PRODID:-//eventon.com NONSGML v1.0//EN
CALSCALE:GREGORIAN
METHOD:PUBLISH
BEGIN:VEVENT
UID:69e74fcfd7093
DTSTAMP:20260421T102207Z
DTSTART:20241201T123600Z
DTEND:20241201T123600Z
LOCATION:Sala Razzmatazz 2 Carrer de Pamplona\,  88\,  08018 BARCELONA
SUMMARY:Sólstafir + Oranssi Pazuzu + Helga
DESCRIPTION:Sólstafir + Oranssi Pazuzu + Helga\nhttps://confinedrock.com/e
 vents/solstafir-oranssi-pazuzu-helga-3/
URL:https://confinedrock.com/events/solstafir-oranssi-pazuzu-helga-3/
END:VEVENT
END:VCALENDAR