BEGIN:VCALENDAR
VERSION:2.0
PRODID:-//eventon.com NONSGML v1.0//EN
CALSCALE:GREGORIAN
METHOD:PUBLISH
BEGIN:VEVENT
UID:69e630de5e8b2
DTSTAMP:20260420T135750Z
DTSTART:20240216
DTEND:20240217
LOCATION:Sala Ambigú Exerquía Av. Menéndez Pidal s/n\,  14004 Córdoba
SUMMARY:The Fuzztones
DESCRIPTION:The Fuzztones\nhttps://confinedrock.com/events/the-fuzztones-5/
URL:https://confinedrock.com/events/the-fuzztones-5/
END:VEVENT
END:VCALENDAR