BEGIN:VCALENDAR
VERSION:2.0
PRODID:-//eventon.com NONSGML v1.0//EN
CALSCALE:GREGORIAN
METHOD:PUBLISH
BEGIN:VEVENT
UID:69e73f1963291
DTSTAMP:20260421T091049Z
DTSTART:20240113
DTEND:20240114
LOCATION:Sala Upload Av. Francesc Ferrer i Guàrdia\,  13\,  08038 BARCELONA
SUMMARY:Belzebong+Ground+Udol
DESCRIPTION:Belzebong+Ground+Udol\nhttps://confinedrock.com/events/belzebon
 ggroundudol/
URL:https://confinedrock.com/events/belzebonggroundudol/
END:VEVENT
END:VCALENDAR