BEGIN:VCALENDAR
VERSION:2.0
PRODID:-//eventon.com NONSGML v1.0//EN
CALSCALE:GREGORIAN
METHOD:PUBLISH
BEGIN:VEVENT
UID:69e73e8e74d99
DTSTAMP:20260421T090830Z
DTSTART:20231210
DTEND:20231211
LOCATION:
SUMMARY:Stone Senate+Colmena
DESCRIPTION:Stone Senate+Colmena\nhttps://confinedrock.com/events/stone-sen
 atecolmena-5/
URL:https://confinedrock.com/events/stone-senatecolmena-5/
END:VEVENT
END:VCALENDAR