BEGIN:VCALENDAR
VERSION:2.0
PRODID:-//eventon.com NONSGML v1.0//EN
CALSCALE:GREGORIAN
METHOD:PUBLISH
BEGIN:VEVENT
UID:69e73ae7e9c66
DTSTAMP:20260421T085255Z
DTSTART:20231025
DTEND:20231026
LOCATION:Sala Meteoro Passeig de Montjuïc\,  72\,  08004 Barcelona
SUMMARY:Foreseen
DESCRIPTION:Foreseen\nhttps://confinedrock.com/events/foreseen/
URL:https://confinedrock.com/events/foreseen/
END:VEVENT
END:VCALENDAR