BEGIN:VCALENDAR
VERSION:2.0
PRODID:-//eventon.com NONSGML v1.0//EN
CALSCALE:GREGORIAN
METHOD:PUBLISH
BEGIN:VEVENT
UID:69e6245034265
DTSTAMP:20260420T130416Z
DTSTART:20231203
DTEND:20231204
LOCATION:Sala La Riviera Paseo Bajo de la Virgen del Puerto\,  S/N\,  28005 MADRID
SUMMARY:Halestorm+Black Veil Brides+Mothica
DESCRIPTION:Halestorm+Black Veil Brides+Mothica\nhttps://confinedrock.com/e
 vents/halestormblack-veil-bridesmothica-2/
URL:https://confinedrock.com/events/halestormblack-veil-bridesmothica-2/
END:VEVENT
END:VCALENDAR