BEGIN:VCALENDAR
VERSION:2.0
PRODID:-//eventon.com NONSGML v1.0//EN
CALSCALE:GREGORIAN
METHOD:PUBLISH
BEGIN:VEVENT
UID:69e755c40c924
DTSTAMP:20260421T104732Z
DTSTART:20230921
DTEND:20230922
LOCATION:Sala Clamores C. de Alburquerque\,  14\,  28010 Madrid
SUMMARY:The Hangmen
DESCRIPTION:The Hangmen\nhttps://confinedrock.com/events/the-hangmen-4/
URL:https://confinedrock.com/events/the-hangmen-4/
END:VEVENT
END:VCALENDAR