BEGIN:VCALENDAR
VERSION:2.0
PRODID:-//eventon.com NONSGML v1.0//EN
CALSCALE:GREGORIAN
METHOD:PUBLISH
BEGIN:VEVENT
UID:69e73ef65c6a1
DTSTAMP:20260421T091014Z
DTSTART:20231107
DTEND:20231108
LOCATION:Sala Custom Pol. Ind. Calonge\,  C. Metalurgia\,  25\,  41007 Sevilla
SUMMARY:H.E.A.T.+Crazy Lixx
DESCRIPTION:H.E.A.T.+Crazy Lixx\nhttps://confinedrock.com/events/h-e-a-t-cr
 azy-lixx-3/
URL:https://confinedrock.com/events/h-e-a-t-crazy-lixx-3/
END:VEVENT
END:VCALENDAR