BEGIN:VCALENDAR
VERSION:2.0
PRODID:-//eventon.com NONSGML v1.0//EN
CALSCALE:GREGORIAN
METHOD:PUBLISH
BEGIN:VEVENT
UID:69e73a885d67b
DTSTAMP:20260421T085120Z
DTSTART:20230521
DTEND:20230522
LOCATION:Poble Espanyol Av. Francesc Ferrer i Guàrdia\,  13\,  08038 BARCELONA
SUMMARY:NOFX+Special Guest
DESCRIPTION:NOFX+Special Guest\nhttps://confinedrock.com/events/nofxspecial
 -guest/
URL:https://confinedrock.com/events/nofxspecial-guest/
END:VEVENT
END:VCALENDAR