BEGIN:VCALENDAR
VERSION:2.0
PRODID:-//eventon.com NONSGML v1.0//EN
CALSCALE:GREGORIAN
METHOD:PUBLISH
BEGIN:VEVENT
UID:69e73adfcffd0
DTSTAMP:20260421T085247Z
DTSTART:20210211
DTEND:20210212
LOCATION:Sala Santana 27 Polígono Industrial Santa Ana\,  Telleria Kalea\,  27\,  48004 BILBAO
SUMMARY:Magnum
DESCRIPTION:Magnum\nhttps://confinedrock.com/events/magnum3/
URL:https://confinedrock.com/events/magnum3/
END:VEVENT
END:VCALENDAR