BEGIN:VCALENDAR
VERSION:2.0
PRODID:-//eventon.com NONSGML v1.0//EN
CALSCALE:GREGORIAN
METHOD:PUBLISH
BEGIN:VEVENT
UID:69e73a86d55c0
DTSTAMP:20260421T085118Z
DTSTART:20201017
DTEND:20201018
LOCATION:Sala Apolo Carrer Nou de la Rambla\,  113\,  08004 Barcelona
SUMMARY:Deathstars
DESCRIPTION:Deathstars\nhttps://confinedrock.com/events/deathstars/
URL:https://confinedrock.com/events/deathstars/
END:VEVENT
END:VCALENDAR