BEGIN:VCALENDAR
VERSION:2.0
PRODID:-//eventon.com NONSGML v1.0//EN
CALSCALE:GREGORIAN
METHOD:PUBLISH
BEGIN:VEVENT
UID:69e73f38c79fe
DTSTAMP:20260421T091120Z
DTSTART:20221008
DTEND:20221009
LOCATION:
SUMMARY:OFF!
DESCRIPTION:OFF!\nhttps://confinedrock.com/events/off-3/
URL:https://confinedrock.com/events/off-3/
END:VEVENT
END:VCALENDAR