BEGIN:VCALENDAR
VERSION:2.0
PRODID:-//eventon.com NONSGML v1.0//EN
CALSCALE:GREGORIAN
METHOD:PUBLISH
BEGIN:VEVENT
UID:69e73af5815e1
DTSTAMP:20260421T085309Z
DTSTART:20200818
DTEND:20200819
LOCATION:Sala Wurlitzer Ballroom Calle de las Tres Cruces\,  12\,  28013 MADRID
SUMMARY:Blood Incantation + Engulfed + Czlt
DESCRIPTION:Blood Incantation + Engulfed + Czlt\nhttps://confinedrock.com/e
 vents/blood-incantation-engulfed-czlt2/
URL:https://confinedrock.com/events/blood-incantation-engulfed-czlt2/
END:VEVENT
END:VCALENDAR