BEGIN:VCALENDAR
VERSION:2.0
PRODID:-//eventon.com NONSGML v1.0//EN
CALSCALE:GREGORIAN
METHOD:PUBLISH
BEGIN:VEVENT
UID:69e4ce6134817
DTSTAMP:20260419T124521Z
DTSTART:20221024
DTEND:20221025
LOCATION:Sala Loco Club Carrer de l'Erudit Orellana\,  12\,  46008 VALENCIA
SUMMARY:Komodor
DESCRIPTION:Komodor\nhttps://confinedrock.com/events/komodor-6/
URL:https://confinedrock.com/events/komodor-6/
END:VEVENT
END:VCALENDAR