BEGIN:VCALENDAR
VERSION:2.0
PRODID:-//eventon.com NONSGML v1.0//EN
CALSCALE:GREGORIAN
METHOD:PUBLISH
BEGIN:VEVENT
UID:69e73edb75bee
DTSTAMP:20260421T090947Z
DTSTART:20230131
DTEND:20230201
LOCATION:Sala Salamandra Av. del Carrilet\,  235\,  08907 L'HOSPITALET DE LLOBREGAT
SUMMARY:Beast in Black
DESCRIPTION:Beast in Black\nhttps://confinedrock.com/events/beast-in-black-
 3/
URL:https://confinedrock.com/events/beast-in-black-3/
END:VEVENT
END:VCALENDAR