BEGIN:VCALENDAR
VERSION:2.0
PRODID:-//eventon.com NONSGML v1.0//EN
CALSCALE:GREGORIAN
METHOD:PUBLISH
BEGIN:VEVENT
UID:69e74f9fd2e2c
DTSTAMP:20260421T102119Z
DTSTART:20230304
DTEND:20230305
LOCATION:Sala Apolo 2 Carrer Nou de la Rambla\,  113\,  08004 Barcelona
SUMMARY:In Extremo
DESCRIPTION:In Extremo\nhttps://confinedrock.com/events/in-extremo/
URL:https://confinedrock.com/events/in-extremo/
END:VEVENT
END:VCALENDAR