BEGIN:VCALENDAR
VERSION:2.0
PRODID:-//eventon.com NONSGML v1.0//EN
CALSCALE:GREGORIAN
METHOD:PUBLISH
BEGIN:VEVENT
UID:69e73e8ecdf3a
DTSTAMP:20260421T090830Z
DTSTART:20220612
DTEND:20220613
LOCATION:Sala Silikona Pl. del Encuentro\,  1\,  28030 Madrid
SUMMARY:Exciter
DESCRIPTION:Exciter\nhttps://confinedrock.com/events/exciter/
URL:https://confinedrock.com/events/exciter/
END:VEVENT
END:VCALENDAR