BEGIN:VCALENDAR
VERSION:2.0
PRODID:-//eventon.com NONSGML v1.0//EN
CALSCALE:GREGORIAN
METHOD:PUBLISH
BEGIN:VEVENT
UID:69e73e905a1f6
DTSTAMP:20260421T090832Z
DTSTART:20220528
DTEND:20220529
LOCATION:Sala Rouge Rúa de Pontevedra\,  4\,  36201 Vigo\,  Pontevedra
SUMMARY:The Steepwater Band
DESCRIPTION:The Steepwater Band\nhttps://confinedrock.com/events/the-steepw
 ater-band-9/
URL:https://confinedrock.com/events/the-steepwater-band-9/
END:VEVENT
END:VCALENDAR