BEGIN:VCALENDAR
VERSION:2.0
PRODID:-//eventon.com NONSGML v1.0//EN
CALSCALE:GREGORIAN
METHOD:PUBLISH
BEGIN:VEVENT
UID:69ea01379c069
DTSTAMP:20260423T112335Z
DTSTART:20220530
DTEND:20220531
LOCATION:Sala Groove Ballonti Auzoa\,  23\,  48920 Portugalete\,  Bizkaia
SUMMARY:Omen
DESCRIPTION:Omen\nhttps://confinedrock.com/events/omen-2/
URL:https://confinedrock.com/events/omen-2/
END:VEVENT
END:VCALENDAR