BEGIN:VCALENDAR
VERSION:2.0
PRODID:-//eventon.com NONSGML v1.0//EN
CALSCALE:GREGORIAN
METHOD:PUBLISH
BEGIN:VEVENT
UID:69e73a4c94204
DTSTAMP:20260421T085020Z
DTSTART:20220924
DTEND:20220925
LOCATION:Sala Bóveda Carrer de Roc Boronat\,  33\,  08005 BARCELONA
SUMMARY:Blind Channel
DESCRIPTION:Blind Channel\nhttps://confinedrock.com/events/blind-channel-2/
URL:https://confinedrock.com/events/blind-channel-2/
END:VEVENT
END:VCALENDAR