BEGIN:VCALENDAR
VERSION:2.0
PRODID:-//eventon.com NONSGML v1.0//EN
CALSCALE:GREGORIAN
METHOD:PUBLISH
BEGIN:VEVENT
UID:69e73e64885ce
DTSTAMP:20260421T090748Z
DTSTART:20220401
DTEND:20220402
LOCATION:Sala Filomatic Rúa San José\,  21\,  15002 A Coruña
SUMMARY:As Life Burns
DESCRIPTION:As Life Burns\nhttps://confinedrock.com/events/as-life-burns-7/
URL:https://confinedrock.com/events/as-life-burns-7/
END:VEVENT
END:VCALENDAR