BEGIN:VCALENDAR
VERSION:2.0
PRODID:-//eventon.com NONSGML v1.0//EN
CALSCALE:GREGORIAN
METHOD:PUBLISH
BEGIN:VEVENT
UID:69ea327534adf
DTSTAMP:20260423T145341Z
DTSTART:20221014
DTEND:20221015
LOCATION:Sala Gong C. Martínez Vigil\,  21\,  33010
SUMMARY:Persuader
DESCRIPTION:Persuader\nhttps://confinedrock.com/events/persuader-3/
URL:https://confinedrock.com/events/persuader-3/
END:VEVENT
END:VCALENDAR