BEGIN:VCALENDAR
VERSION:2.0
PRODID:-//eventon.com NONSGML v1.0//EN
CALSCALE:GREGORIAN
METHOD:PUBLISH
BEGIN:VEVENT
UID:69e4ce31e6752
DTSTAMP:20260419T124433Z
DTSTART:20221129
DTEND:20221130
LOCATION:Sala Mon C. de Hilarión Eslava\,  36\,  28015 MADRID
SUMMARY:Finntroll+Skalmold
DESCRIPTION:Finntroll+Skalmold\nhttps://confinedrock.com/events/skalmold-2/
URL:https://confinedrock.com/events/skalmold-2/
END:VEVENT
END:VCALENDAR