BEGIN:VCALENDAR
VERSION:2.0
PRODID:-//eventon.com NONSGML v1.0//EN
CALSCALE:GREGORIAN
METHOD:PUBLISH
BEGIN:VEVENT
UID:69e73e7503569
DTSTAMP:20260421T090805Z
DTSTART:20200621T200000Z
DTEND:20200621T210000Z
LOCATION:
SUMMARY:Little Caesar
DESCRIPTION:Little Caesar\nhttps://confinedrock.com/events/little-caesar/
URL:https://confinedrock.com/events/little-caesar/
END:VEVENT
END:VCALENDAR