BEGIN:VCALENDAR
VERSION:2.0
PRODID:-//eventon.com NONSGML v1.0//EN
CALSCALE:GREGORIAN
METHOD:PUBLISH
BEGIN:VEVENT
UID:69e73ade2063c
DTSTAMP:20260421T085246Z
DTSTART:20200710T180000Z
DTEND:20200710T210000Z
LOCATION:
SUMMARY:Ensiferum
DESCRIPTION:Retransmisión en Keikalla.fi\nhttps://confinedrock.com/events/
 ensiferum/
URL:https://confinedrock.com/events/ensiferum/
END:VEVENT
END:VCALENDAR